BEGIN:VCALENDAR
VERSION:2.0
PRODID:icalendar-ruby
CALSCALE:GREGORIAN
METHOD:PUBLISH
BEGIN:VEVENT
DTSTAMP:20260420T131027Z
UID:485-2212800@prairietab.com
DTSTART:20260425T010000Z
DTEND:20260425T030000Z
CLASS:PUBLIC
CREATED:20260417T132300
DESCRIPTION:To sign up\, please contact the church office 403 443 5858 (cal
 l/text) during office hours.
LAST-MODIFIED:20260417T132300
LOCATION:
SUMMARY:Women's Event
URL;VALUE=URI:https://www.prairietab.com/events/womens-event--485/2026-04-2
 4
ATTACH;FILENAME=Womens event_April 24.jpg;FMTTYPE=image/jpeg:https://dq5pwp
 g1q8ru0.cloudfront.net/2026/04/17/19/23/00/2c8f90f6-ff1b-44e5-9471-a2317c6
 818a1/Womens%20event_April%2024.jpg
END:VEVENT
END:VCALENDAR
